BEGIN:VCALENDAR
VERSION:2.0
PRODID:-//JCV De Gaarekiekerkes - ECPv6.15.20//NONSGML v1.0//EN
CALSCALE:GREGORIAN
METHOD:PUBLISH
X-ORIGINAL-URL:https://www.gaarekiekerkes.nl
X-WR-CALDESC:Evenementen voor JCV De Gaarekiekerkes
REFRESH-INTERVAL;VALUE=DURATION:PT1H
X-Robots-Tag:noindex
X-PUBLISHED-TTL:PT1H
BEGIN:VTIMEZONE
TZID:Europe/Amsterdam
BEGIN:DAYLIGHT
TZOFFSETFROM:+0100
TZOFFSETTO:+0200
TZNAME:CEST
DTSTART:20250330T010000
END:DAYLIGHT
BEGIN:STANDARD
TZOFFSETFROM:+0200
TZOFFSETTO:+0100
TZNAME:CET
DTSTART:20251026T010000
END:STANDARD
BEGIN:DAYLIGHT
TZOFFSETFROM:+0100
TZOFFSETTO:+0200
TZNAME:CEST
DTSTART:20260329T010000
END:DAYLIGHT
BEGIN:STANDARD
TZOFFSETFROM:+0200
TZOFFSETTO:+0100
TZNAME:CET
DTSTART:20261025T010000
END:STANDARD
BEGIN:DAYLIGHT
TZOFFSETFROM:+0100
TZOFFSETTO:+0200
TZNAME:CEST
DTSTART:20270328T010000
END:DAYLIGHT
BEGIN:STANDARD
TZOFFSETFROM:+0200
TZOFFSETTO:+0100
TZNAME:CET
DTSTART:20271031T010000
END:STANDARD
END:VTIMEZONE
BEGIN:VEVENT
DTSTART;TZID=Europe/Amsterdam:20260217T170000
DTEND;TZID=Europe/Amsterdam:20260217T200000
DTSTAMP:20260424T174817
CREATED:20250115T195054Z
LAST-MODIFIED:20251228T201730Z
UID:5751-1771347600-1771358400@www.gaarekiekerkes.nl
SUMMARY:Afsluiting carnaval Markt
DESCRIPTION:Vanuit Dr. Ackenshuis aanwezig bij opening van de afsluiting\, daarna Tapa Sagrada\, intern afsluiten bij prins. \nOphalen prinsengarde jongens en raad van elf bij prins: 19.45 uur
URL:https://www.gaarekiekerkes.nl/evenement/afsluiting-carnaval-markt/
CATEGORIES:Prins Hofnar President,Prinsengarde Jongens,Raad van Elf,Solo Gisele,Solo Tess,Totale Agenda
END:VEVENT
BEGIN:VEVENT
DTSTART;TZID=Europe/Amsterdam:20260217T140000
DTEND;TZID=Europe/Amsterdam:20260217T163000
DTSTAMP:20260424T174817
CREATED:20250115T194549Z
LAST-MODIFIED:20260217T064848Z
UID:5749-1771336800-1771345800@www.gaarekiekerkes.nl
SUMMARY:Carnavalsmiddag Dr. Ackenshuis
DESCRIPTION:Let op!! Ivm veiligheidsmaatregelen is de zaal in Dr. Ackenshuis niet toegankelijk voor ouders \nVerzamelen dansgroepen Galaxy: 14.15 uur \nVerzamelen prinsengarde jongens: 14.30 uur \nVerzamelen prins\, nar\, president\, solo dansmarietjes en raad van elf: 14.45 uur \nOphalen dansgroepen Galaxy: 16.30 uur \nPrins\, hofnar\, president\, solo’s\, prinsengarde jongens en raad van elf gaan aansluitend naar de Markt.
URL:https://www.gaarekiekerkes.nl/evenement/carnavalsmiddag-dr-ackenshuis/
CATEGORIES:Blitz Kids,Butterfly's,Funky Teens,Leiding,Prins Hofnar President,Prinsengarde Jongens,Raad van Elf,Solo Gisele,Solo Tess,Totale Agenda
END:VEVENT
BEGIN:VEVENT
DTSTART;TZID=Europe/Amsterdam:20260214T133000
DTEND;TZID=Europe/Amsterdam:20260214T163000
DTSTAMP:20260424T174817
CREATED:20250115T193639Z
LAST-MODIFIED:20251228T201301Z
UID:5740-1771075800-1771086600@www.gaarekiekerkes.nl
SUMMARY:Carnavalsmiddag Klein Gulpen
DESCRIPTION:Let op!!! Klein Gulpen is ivm veiligheid niet toegankelijk voor ouders \nVerzamelen dansgroepen Galaxy: 13.15 uur \nVerzamelen prinsengarde jongens: 13.45 uur \nVerzamelen prins\, nar\, president\, solo dansmarietjes en raad van elf: 14.00 uur \nOphalen (allemaal) Galaxy: 16.30 uur
URL:https://www.gaarekiekerkes.nl/evenement/carnavalsmiddag-klein-gulpen-2/
CATEGORIES:Blitz Kids,Butterfly's,Funky Teens,Leiding,Prins Hofnar President,Prinsengarde Jongens,Raad van Elf,Solo Gisele,Solo Tess,Totale Agenda
END:VEVENT
BEGIN:VEVENT
DTSTART;TZID=Europe/Amsterdam:20260211T130000
DTEND;TZID=Europe/Amsterdam:20260211T180000
DTSTAMP:20260424T174817
CREATED:20241204T212809Z
LAST-MODIFIED:20260201T125200Z
UID:5678-1770814800-1770832800@www.gaarekiekerkes.nl
SUMMARY:Zitting Vur De Groeete Luuj
DESCRIPTION:Zitting in Gulper Hoes \nPrins\, nar\, president\, solo Gisele\, raad en prinsengarde jongens: \nVerzamelen Galaxy: 13.30 uur \nOphalen bij jeugdprins: 18.15 uur \nBlitz Kids en Butterfly’s: \nVerzamelen Galaxy: 13.45 uur \nOphalen Galaxy: 17.00 uur \nTijdstip van optredens: solo Gisele 14.25 uur\, Butterfly’s 14.55 uur\, Blitz Kids 15.55 uur \n 
URL:https://www.gaarekiekerkes.nl/evenement/zitting-vur-de-groeete-luuj-2/
CATEGORIES:Blitz Kids,Butterfly's,Leiding,Prins Hofnar President,Prinsengarde Jongens,Raad van Elf,Solo Gisele,Totale Agenda
END:VEVENT
BEGIN:VEVENT
DTSTART;TZID=Europe/Amsterdam:20260208T130000
DTEND;TZID=Europe/Amsterdam:20260208T210000
DTSTAMP:20260424T174817
CREATED:20251022T074546Z
LAST-MODIFIED:20251022T074546Z
UID:6748-1770555600-1770584400@www.gaarekiekerkes.nl
SUMMARY:RECEPTIE JEUGDPRINS EN SJPRINGMIDDIG
DESCRIPTION:Iedereen van harte welkom op eigen gelegenheid. \nHoogheden: in overleg met leiding
URL:https://www.gaarekiekerkes.nl/evenement/receptie-jeugdprins-en-sjpringmiddig/
CATEGORIES:Blitz Kids,Butterfly's,Funky Teens,Leiding,Magic Diamonds,Prins Hofnar President,Prinsengarde Jongens,Raad van Elf,Solo Gisele,Solo Tess,Totale Agenda
END:VEVENT
BEGIN:VEVENT
DTSTART;TZID=Europe/Amsterdam:20260125T130000
DTEND;TZID=Europe/Amsterdam:20260125T190000
DTSTAMP:20260424T174817
CREATED:20260113T074144Z
LAST-MODIFIED:20260119T190344Z
UID:6806-1769346000-1769367600@www.gaarekiekerkes.nl
SUMMARY:Zitting Waggelere Voeren
DESCRIPTION:Galaxy: verzamelen 13.15 uur\, ophalen +/- 19.00 uur (volgt via app) \nna afloop eten bij Prins Jesse
URL:https://www.gaarekiekerkes.nl/evenement/zitting-waggelere-voeren-2/
CATEGORIES:Leiding,Prins Hofnar President,Prinsengarde Jongens,Raad van Elf,Solo Gisele,Totale Agenda
END:VEVENT
BEGIN:VEVENT
DTSTART;TZID=Europe/Amsterdam:20260123T184500
DTEND;TZID=Europe/Amsterdam:20260123T210000
DTSTAMP:20260424T174817
CREATED:20260118T141324Z
LAST-MODIFIED:20260118T141324Z
UID:6832-1769193900-1769202000@www.gaarekiekerkes.nl
SUMMARY:Bezoek Prins Roy I & Hofnar Melanie CV de Gaarekiekere
DESCRIPTION:Verzamelen 18.45 Galaxy \nOphalen 21.00 uur Galaxy
URL:https://www.gaarekiekerkes.nl/evenement/bezoek-prins-roy-i-hofnar-melanie-cv-de-gaarekiekere/
CATEGORIES:Leiding,Prins Hofnar President,Prinsengarde Jongens,Raad van Elf,Solo Gisele,Solo Tess,Totale Agenda
END:VEVENT
BEGIN:VEVENT
DTSTART;TZID=Europe/Amsterdam:20260117T130000
DTEND;TZID=Europe/Amsterdam:20260117T180000
DTSTAMP:20260424T174817
CREATED:20251228T194407Z
LAST-MODIFIED:20251228T194407Z
UID:6784-1768654800-1768672800@www.gaarekiekerkes.nl
SUMMARY:Jeugdzitting\, Breuzeleerkes
DESCRIPTION:Raad van elf en Prinsengarde jongens verzamelen prins: 13.00 uur\, na bekendmaking hofnar gaan we naar Mechelen. \nOphalen raad van elf en prinsengarde jongens Galaxy: 18.00 uur
URL:https://www.gaarekiekerkes.nl/evenement/jeugdzitting-breuzeleerkes/
CATEGORIES:Leiding,Prins Hofnar President,Prinsengarde Jongens,Raad van Elf,Solo Gisele,Totale Agenda
END:VEVENT
BEGIN:VEVENT
DTSTART;TZID=Europe/Amsterdam:20260111T130000
DTEND;TZID=Europe/Amsterdam:20260111T190000
DTSTAMP:20260424T174817
CREATED:20251021T180930Z
LAST-MODIFIED:20251021T180930Z
UID:6730-1768136400-1768158000@www.gaarekiekerkes.nl
SUMMARY:JCV DE GAAREKIEKERKES\, zitting
DESCRIPTION:Hele vereniging\, tijdstip volgt
URL:https://www.gaarekiekerkes.nl/evenement/jcv-de-gaarekiekerkes-zitting/
CATEGORIES:Blitz Kids,Butterfly's,Funky Teens,Leiding,Magic Diamonds,Prins Hofnar President,Prinsengarde Jongens,Raad van Elf,Solo Gisele,Solo Tess,Totale Agenda
END:VEVENT
BEGIN:VEVENT
DTSTART;TZID=Europe/Amsterdam:20260109T150000
DTEND;TZID=Europe/Amsterdam:20260109T180000
DTSTAMP:20260424T174817
CREATED:20251021T180703Z
LAST-MODIFIED:20251228T193659Z
UID:6726-1767970800-1767981600@www.gaarekiekerkes.nl
SUMMARY:Generale repetitie JCV de Gaarekiekerkes
DESCRIPTION:Gulper Hoes (bij deur/ingang afzetten\, hier ook ophalen) \nDansgroepen en solo’s 16.00-18.00 uur \nRaad van elf en prinsengarde jongens 17.00-18.00 uur
URL:https://www.gaarekiekerkes.nl/evenement/generale-repetitie-jcv-de-gaarekiekerkes-2/
CATEGORIES:Blitz Kids,Butterfly's,Funky Teens,Leiding,Magic Diamonds,Prins Hofnar President,Prinsengarde Jongens,Raad van Elf,Solo Gisele,Solo Tess,Totale Agenda
END:VEVENT
BEGIN:VEVENT
DTSTART;TZID=Europe/Amsterdam:20260104T130000
DTEND;TZID=Europe/Amsterdam:20260104T180000
DTSTAMP:20260424T174817
CREATED:20251021T165128Z
LAST-MODIFIED:20251021T165128Z
UID:6724-1767531600-1767549600@www.gaarekiekerkes.nl
SUMMARY:JCV de Nachdraverkes\, zitting
DESCRIPTION:Raad van elf en prinsengarde jongens: tijdstip volgt \nDansen: Funky Teens garde\, tijdstip volgt
URL:https://www.gaarekiekerkes.nl/evenement/jcv-de-nachdraverkes-zitting/
CATEGORIES:Funky Teens,Leiding,Prins Hofnar President,Prinsengarde Jongens,Raad van Elf,Solo Gisele,Totale Agenda
END:VEVENT
END:VCALENDAR